BEGIN:VCALENDAR
VERSION:2.0
PRODID:-//DanceSations - ECPv6.15.20//NONSGML v1.0//EN
CALSCALE:GREGORIAN
METHOD:PUBLISH
X-WR-CALNAME:DanceSations
X-ORIGINAL-URL:https://dancesations-nj.com
X-WR-CALDESC:Events for DanceSations
REFRESH-INTERVAL;VALUE=DURATION:PT1H
X-Robots-Tag:noindex
X-PUBLISHED-TTL:PT1H
BEGIN:VTIMEZONE
TZID:UTC
BEGIN:STANDARD
TZOFFSETFROM:+0000
TZOFFSETTO:+0000
TZNAME:UTC
DTSTART:20250101T000000
END:STANDARD
END:VTIMEZONE
BEGIN:VEVENT
DTSTART;TZID=UTC:20260622T094500
DTEND;TZID=UTC:20260625T123000
DTSTAMP:20260424T154006
CREATED:20250402T181742Z
LAST-MODIFIED:20260305T233936Z
UID:46821-1782121500-1782390600@dancesations-nj.com
SUMMARY:Mini's 4 Day Dance Camp
DESCRIPTION:Ages: 3-6 year olds | Please inquire about pricing and registration.
URL:https://dancesations-nj.com/event/minis-4-day-dance-camp/
LOCATION:NJ
CATEGORIES:Dancesations,Summer Camps
ORGANIZER;CN="Dancesations":MAILTO:dancesationsnj@gmail.com
END:VEVENT
BEGIN:VEVENT
DTSTART;TZID=UTC:20260622T100000
DTEND;TZID=UTC:20260625T141500
DTSTAMP:20260424T154006
CREATED:20250402T181528Z
LAST-MODIFIED:20260305T233738Z
UID:46819-1782122400-1782396900@dancesations-nj.com
SUMMARY:Junior Dance Intensive
DESCRIPTION:6-11 yrs competitions team and new members welcome. Please inquire about pricing and registration.
URL:https://dancesations-nj.com/event/junior-dance-intensive/
LOCATION:Dancesations Dance Studio\, 660 Woodbury Glassboro Rd.\, Sewell\, NJ\, 08080\, United States
CATEGORIES:Dancesations,Summer Camps
ORGANIZER;CN="Dancesations":MAILTO:dancesationsnj@gmail.com
END:VEVENT
BEGIN:VEVENT
DTSTART;TZID=UTC:20260622T153000
DTEND;TZID=UTC:20260625T203000
DTSTAMP:20260424T154006
CREATED:20250402T182405Z
LAST-MODIFIED:20260305T233818Z
UID:46826-1782142200-1782419400@dancesations-nj.com
SUMMARY:Senior Dance Intensive
DESCRIPTION:Mandatory for all Senior Competition Team Dancers and open to new members! Please inquire about pricing and registration.
URL:https://dancesations-nj.com/event/senior-dance-intensive/
LOCATION:Dancesations Dance Studio\, 660 Woodbury Glassboro Rd.\, Sewell\, NJ\, 08080\, United States
CATEGORIES:Dancesations,Summer Camps
ORGANIZER;CN="Dancesations":MAILTO:dancesationsnj@gmail.com
END:VEVENT
END:VCALENDAR