BEGIN:VCALENDAR
VERSION:2.0
PRODID:-//DanceSations - ECPv6.15.20//NONSGML v1.0//EN
CALSCALE:GREGORIAN
METHOD:PUBLISH
X-ORIGINAL-URL:https://dancesations-nj.com
X-WR-CALDESC:Events for DanceSations
REFRESH-INTERVAL;VALUE=DURATION:PT1H
X-Robots-Tag:noindex
X-PUBLISHED-TTL:PT1H
BEGIN:VTIMEZONE
TZID:UTC
BEGIN:STANDARD
TZOFFSETFROM:+0000
TZOFFSETTO:+0000
TZNAME:UTC
DTSTART:20250101T000000
END:STANDARD
END:VTIMEZONE
BEGIN:VEVENT
DTSTART;VALUE=DATE:20260515
DTEND;VALUE=DATE:20260518
DTSTAMP:20260424T154338
CREATED:20250824T232446Z
LAST-MODIFIED:20250824T232617Z
UID:47257-1778803200-1779062399@dancesations-nj.com
SUMMARY:Journey Dance Competition
DESCRIPTION:Journey Dance Competition
URL:https://dancesations-nj.com/event/journey-dance-competition/
LOCATION:PINE HILL\, NJ\, PINE HILL\, NJ
CATEGORIES:Competitions,Dancesations
END:VEVENT
BEGIN:VEVENT
DTSTART;VALUE=DATE:20260712
DTEND;VALUE=DATE:20260719
DTSTAMP:20260424T154338
CREATED:20250824T232334Z
LAST-MODIFIED:20250824T232639Z
UID:47255-1783814400-1784419199@dancesations-nj.com
SUMMARY:Breakout Nationals
DESCRIPTION:Breakout Nationals!
URL:https://dancesations-nj.com/event/breakout-nationals/
LOCATION:Harrah’s Resort\, 777 Harrah's Blvd\,\, Atlantic City\, new jersey\, 08401\, United States
CATEGORIES:Competitions,Dancesations
END:VEVENT
END:VCALENDAR